BEGIN:VCALENDAR
VERSION:2.0
PRODID:-//Rotary Action Group Addiction Prevention North America - ECPv6.15.20//NONSGML v1.0//EN
CALSCALE:GREGORIAN
METHOD:PUBLISH
X-WR-CALNAME:Rotary Action Group Addiction Prevention North America
X-ORIGINAL-URL:https://ragapbooking.com
X-WR-CALDESC:Events for Rotary Action Group Addiction Prevention North America
REFRESH-INTERVAL;VALUE=DURATION:PT1H
X-Robots-Tag:noindex
X-PUBLISHED-TTL:PT1H
BEGIN:VTIMEZONE
TZID:America/New_York
BEGIN:DAYLIGHT
TZOFFSETFROM:-0500
TZOFFSETTO:-0400
TZNAME:EDT
DTSTART:20230312T070000
END:DAYLIGHT
BEGIN:STANDARD
TZOFFSETFROM:-0400
TZOFFSETTO:-0500
TZNAME:EST
DTSTART:20231105T060000
END:STANDARD
BEGIN:DAYLIGHT
TZOFFSETFROM:-0500
TZOFFSETTO:-0400
TZNAME:EDT
DTSTART:20240310T070000
END:DAYLIGHT
BEGIN:STANDARD
TZOFFSETFROM:-0400
TZOFFSETTO:-0500
TZNAME:EST
DTSTART:20241103T060000
END:STANDARD
BEGIN:DAYLIGHT
TZOFFSETFROM:-0500
TZOFFSETTO:-0400
TZNAME:EDT
DTSTART:20250309T070000
END:DAYLIGHT
BEGIN:STANDARD
TZOFFSETFROM:-0400
TZOFFSETTO:-0500
TZNAME:EST
DTSTART:20251102T060000
END:STANDARD
END:VTIMEZONE
BEGIN:VEVENT
DTSTART;TZID=America/New_York:20240226T150000
DTEND;TZID=America/New_York:20240226T160000
DTSTAMP:20260421T045052
CREATED:20240205T002312Z
LAST-MODIFIED:20240206T002129Z
UID:785-1708959600-1708963200@ragapbooking.com
SUMMARY:Pineview Elementary School Naloxone Training
DESCRIPTION:Naloxone Training Administration and Staff
URL:https://ragapbooking.com/overdose-training/pineview-elementary-school-naloxone-training/
LOCATION:Pineview Elementary School 2230 Lake Bradford Rd Tallahassee Florida Conference Room Front Entrance\, 2230 Lake Bradford Rd\, Tallahassee\, Florida\, United States
CATEGORIES:Overdose Training
ORGANIZER;CN="Mariah Kill-Florida Naloxone Trainer":MAILTO:mkill@uwf.edu
END:VEVENT
END:VCALENDAR