BEGIN:VCALENDAR
VERSION:2.0
PRODID:-//Rotary Action Group Addiction Prevention North America - ECPv6.15.20//NONSGML v1.0//EN
CALSCALE:GREGORIAN
METHOD:PUBLISH
X-ORIGINAL-URL:https://ragapbooking.com
X-WR-CALDESC:Events for Rotary Action Group Addiction Prevention North America
REFRESH-INTERVAL;VALUE=DURATION:PT1H
X-Robots-Tag:noindex
X-PUBLISHED-TTL:PT1H
BEGIN:VTIMEZONE
TZID:Europe/London
BEGIN:DAYLIGHT
TZOFFSETFROM:+0000
TZOFFSETTO:+0100
TZNAME:BST
DTSTART:20230326T010000
END:DAYLIGHT
BEGIN:STANDARD
TZOFFSETFROM:+0100
TZOFFSETTO:+0000
TZNAME:GMT
DTSTART:20231029T010000
END:STANDARD
BEGIN:DAYLIGHT
TZOFFSETFROM:+0000
TZOFFSETTO:+0100
TZNAME:BST
DTSTART:20240331T010000
END:DAYLIGHT
BEGIN:STANDARD
TZOFFSETFROM:+0100
TZOFFSETTO:+0000
TZNAME:GMT
DTSTART:20241027T010000
END:STANDARD
BEGIN:DAYLIGHT
TZOFFSETFROM:+0000
TZOFFSETTO:+0100
TZNAME:BST
DTSTART:20250330T010000
END:DAYLIGHT
BEGIN:STANDARD
TZOFFSETFROM:+0100
TZOFFSETTO:+0000
TZNAME:GMT
DTSTART:20251026T010000
END:STANDARD
END:VTIMEZONE
BEGIN:VTIMEZONE
TZID:America/New_York
BEGIN:DAYLIGHT
TZOFFSETFROM:-0500
TZOFFSETTO:-0400
TZNAME:EDT
DTSTART:20230312T070000
END:DAYLIGHT
BEGIN:STANDARD
TZOFFSETFROM:-0400
TZOFFSETTO:-0500
TZNAME:EST
DTSTART:20231105T060000
END:STANDARD
BEGIN:DAYLIGHT
TZOFFSETFROM:-0500
TZOFFSETTO:-0400
TZNAME:EDT
DTSTART:20240310T070000
END:DAYLIGHT
BEGIN:STANDARD
TZOFFSETFROM:-0400
TZOFFSETTO:-0500
TZNAME:EST
DTSTART:20241103T060000
END:STANDARD
BEGIN:DAYLIGHT
TZOFFSETFROM:-0500
TZOFFSETTO:-0400
TZNAME:EDT
DTSTART:20250309T070000
END:DAYLIGHT
BEGIN:STANDARD
TZOFFSETFROM:-0400
TZOFFSETTO:-0500
TZNAME:EST
DTSTART:20251102T060000
END:STANDARD
END:VTIMEZONE
BEGIN:VTIMEZONE
TZID:America/Chicago
BEGIN:DAYLIGHT
TZOFFSETFROM:-0600
TZOFFSETTO:-0500
TZNAME:CDT
DTSTART:20230312T080000
END:DAYLIGHT
BEGIN:STANDARD
TZOFFSETFROM:-0500
TZOFFSETTO:-0600
TZNAME:CST
DTSTART:20231105T070000
END:STANDARD
BEGIN:DAYLIGHT
TZOFFSETFROM:-0600
TZOFFSETTO:-0500
TZNAME:CDT
DTSTART:20240310T080000
END:DAYLIGHT
BEGIN:STANDARD
TZOFFSETFROM:-0500
TZOFFSETTO:-0600
TZNAME:CST
DTSTART:20241103T070000
END:STANDARD
BEGIN:DAYLIGHT
TZOFFSETFROM:-0600
TZOFFSETTO:-0500
TZNAME:CDT
DTSTART:20250309T080000
END:DAYLIGHT
BEGIN:STANDARD
TZOFFSETFROM:-0500
TZOFFSETTO:-0600
TZNAME:CST
DTSTART:20251102T070000
END:STANDARD
END:VTIMEZONE
BEGIN:VTIMEZONE
TZID:America/Detroit
BEGIN:DAYLIGHT
TZOFFSETFROM:-0500
TZOFFSETTO:-0400
TZNAME:EDT
DTSTART:20230312T070000
END:DAYLIGHT
BEGIN:STANDARD
TZOFFSETFROM:-0400
TZOFFSETTO:-0500
TZNAME:EST
DTSTART:20231105T060000
END:STANDARD
BEGIN:DAYLIGHT
TZOFFSETFROM:-0500
TZOFFSETTO:-0400
TZNAME:EDT
DTSTART:20240310T070000
END:DAYLIGHT
BEGIN:STANDARD
TZOFFSETFROM:-0400
TZOFFSETTO:-0500
TZNAME:EST
DTSTART:20241103T060000
END:STANDARD
BEGIN:DAYLIGHT
TZOFFSETFROM:-0500
TZOFFSETTO:-0400
TZNAME:EDT
DTSTART:20250309T070000
END:DAYLIGHT
BEGIN:STANDARD
TZOFFSETFROM:-0400
TZOFFSETTO:-0500
TZNAME:EST
DTSTART:20251102T060000
END:STANDARD
END:VTIMEZONE
BEGIN:VEVENT
DTSTART;TZID=Europe/London:20241121T190000
DTEND;TZID=Europe/London:20241121T200000
DTSTAMP:20260422T235000
CREATED:20240829T004044Z
LAST-MODIFIED:20240830T210706Z
UID:1719-1732215600-1732219200@ragapbooking.com
SUMMARY:Aberdeen Washington Rotary Club Community Naloxone Training
DESCRIPTION:Learn to save a life from overdose and receive a free Kloxxado
URL:https://ragapbooking.com/overdose-training/aberdeen-washington-rotary-club-community-naloxone-training-4/
LOCATION:Grays Harbor County Public Health Pearsall Bldg.\, 2109 Sumner Avenue\, Aberdeen\, WA\, 98520\, United States
CATEGORIES:Overdose Training
ATTACH;FMTTYPE=image/jpeg:https://ragapbooking.com/wp-content/uploads/2024/02/Kloxxado_graphic_-logo-02-scaled.jpg
END:VEVENT
BEGIN:VEVENT
DTSTART;TZID=America/New_York:20241119T140000
DTEND;TZID=America/New_York:20241119T150000
DTSTAMP:20260422T235000
CREATED:20241031T202924Z
LAST-MODIFIED:20241031T203007Z
UID:2168-1732024800-1732028400@ragapbooking.com
SUMMARY:Tallahassee Rotary Chiles High School Naloxone Training
DESCRIPTION:School Cafeteria 7200 Lawton Chiles Lane   Tallahassee
URL:https://ragapbooking.com/overdose-training/tallahassee-rotary-chiles-high-school-naloxone-training/
LOCATION:Chiles High School\, Lawton Chiles Lane 7200\, Tallahassee\, Florida\, 32312\, United States
CATEGORIES:Overdose Training
ATTACH;FMTTYPE=image/jpeg:https://ragapbooking.com/wp-content/uploads/2024/02/Kloxxado_graphic_-logo-02-scaled.jpg
ORGANIZER;CN="Alasdair Roe-Florida Naloxone Trainer":MAILTO:alasdairroe@gmail.com
END:VEVENT
BEGIN:VEVENT
DTSTART;TZID=Europe/London:20241111T180000
DTEND;TZID=Europe/London:20241111T190000
DTSTAMP:20260422T235000
CREATED:20240709T161828Z
LAST-MODIFIED:20240830T210548Z
UID:1538-1731348000-1731351600@ragapbooking.com
SUMMARY:Camden Arkansas Rotary Club Community Naloxone Training
DESCRIPTION:LEARN TO ADMINISTER NALOXONE FOR OVERDOSE AND SAVE LIVES
URL:https://ragapbooking.com/overdose-training/camden-arkansas-rotary-club-community-naloxone-training-2/
LOCATION:Ouachita County Medical Center/The Green Center/ Bearden Stephens Rooms\, 638 California Avenue Southwest\, Camden\, AR\, 71701\, United States
CATEGORIES:Overdose Training
ATTACH;FMTTYPE=image/jpeg:https://ragapbooking.com/wp-content/uploads/2024/02/Kloxxado_graphic_-logo-02-scaled.jpg
ORGANIZER;CN="Jerakaycia Smith M.D.":MAILTO:jsmith@myfirstchoicecare.com
END:VEVENT
BEGIN:VEVENT
DTSTART;TZID=Europe/London:20241105T180000
DTEND;TZID=Europe/London:20241105T190000
DTSTAMP:20260422T235000
CREATED:20240703T202907Z
LAST-MODIFIED:20240830T210452Z
UID:1493-1730829600-1730833200@ragapbooking.com
SUMMARY:Santa Barbara Sunrise Rotary Community Naloxone Training
DESCRIPTION:Santa Barbara Sunrise Rotary Community Naloxone Training
URL:https://ragapbooking.com/overdose-training/santa-barbara-sunrise-rotary-community-naloxone-training/
LOCATION:Arkansas
CATEGORIES:Overdose Training
ATTACH;FMTTYPE=image/jpeg:https://ragapbooking.com/wp-content/uploads/2024/02/Kloxxado_graphic_-logo-02-scaled.jpg
ORGANIZER;CN="Luz Maria Ortiz":MAILTO:luzmaria@smithandortiz.com
END:VEVENT
BEGIN:VEVENT
DTSTART;TZID=Europe/London:20241023T183000
DTEND;TZID=Europe/London:20241023T193000
DTSTAMP:20260422T235000
CREATED:20240909T154001Z
LAST-MODIFIED:20241011T161632Z
UID:1941-1729708200-1729711800@ragapbooking.com
SUMMARY:Southgate Rotary Club Community Naloxone Training
DESCRIPTION:Southgate Community Players Building Learn to save a life from overdose by providing the community with Kloxxado
URL:https://ragapbooking.com/overdose-training/southgate-rotary-club-community-naloxone-training/
LOCATION:Southgate Community Players\, 12671 Dix Toledo Road\, Southgate\, MI\, 48195\, United States
CATEGORIES:Overdose Training
ATTACH;FMTTYPE=image/jpeg:https://ragapbooking.com/wp-content/uploads/2024/02/Kloxxado_graphic_-logo-02-scaled.jpg
ORGANIZER;CN="Steve Ahles-Michigan Overdose Trainer":MAILTO:steveahles@ragapnorthamerica.us
END:VEVENT
BEGIN:VEVENT
DTSTART;TZID=Europe/London:20241014T180000
DTEND;TZID=Europe/London:20241014T190000
DTSTAMP:20260422T235000
CREATED:20240709T160738Z
LAST-MODIFIED:20240904T161719Z
UID:1533-1728928800-1728932400@ragapbooking.com
SUMMARY:Camden Arkansas Rotary Club Community Naloxone Training
DESCRIPTION:LEARN HOW TO ADMINISTER NALOXONE FOR OVERDOSE AND SAVE LIVES
URL:https://ragapbooking.com/overdose-training/camden-arkansas-rotary-club-community-naloxone-training/
LOCATION:Ouachita County Medical Center/The Green Center/ Bearden Stephens Rooms\, 638 California Avenue Southwest\, Camden\, AR\, 71701\, United States
CATEGORIES:Overdose Training
ATTACH;FMTTYPE=image/jpeg:https://ragapbooking.com/wp-content/uploads/2024/02/Kloxxado_graphic_-logo-02-scaled.jpg
ORGANIZER;CN="Jerakaycia Smith M.D.":MAILTO:jsmith@myfirstchoicecare.com
END:VEVENT
BEGIN:VEVENT
DTSTART;TZID=America/Chicago:20241002T183000
DTEND;TZID=America/Chicago:20241002T193000
DTSTAMP:20260422T235000
CREATED:20240906T142048Z
LAST-MODIFIED:20240906T145932Z
UID:1927-1727893800-1727897400@ragapbooking.com
SUMMARY:Urbana Illinois Rotary Club Community Naloxone Training
DESCRIPTION:Training the community on administering Naloxone to save lives from overdose.  Conference Room First Floor
URL:https://ragapbooking.com/overdose-training/urbana-illinois-rotary-club-community-naloxone-training/
LOCATION:Champaign County Coroners Office\, Art Bartell Road\, Urbana\, Illinois\, 61802\, United States
CATEGORIES:Overdose Training
ATTACH;FMTTYPE=image/jpeg:https://ragapbooking.com/wp-content/uploads/2024/02/Kloxxado_graphic_-logo-02-scaled.jpg
ORGANIZER;CN="Steve Thuney":MAILTO:sthuney@champaigncountyil.gov
END:VEVENT
BEGIN:VEVENT
DTSTART;TZID=Europe/London:20241002T080000
DTEND;TZID=Europe/London:20241002T090000
DTSTAMP:20260422T235000
CREATED:20240912T205358Z
LAST-MODIFIED:20240912T205646Z
UID:1958-1727856000-1727859600@ragapbooking.com
SUMMARY:Champaign Illinois Rotary Club Community Naloxone Training
DESCRIPTION:Learn to save a life from overdose-First Floor Mc Ginnis Room
URL:https://ragapbooking.com/overdose-training/champaign-illinois-rotary-club-community-naloxone-training/
LOCATION:The Salvation Army Red Kettle Center-McGinnis Room\, North Market Street\, Champaign\, IL\, 61822\, United States
CATEGORIES:Overdose Training
ATTACH;FMTTYPE=image/jpeg:https://ragapbooking.com/wp-content/uploads/2024/02/Kloxxado_graphic_-logo-02-scaled.jpg
ORGANIZER;CN="Janet Nelson":MAILTO:janetnelson1994@gmail.com
END:VEVENT
BEGIN:VEVENT
DTSTART;TZID=Europe/London:20241001T180000
DTEND;TZID=Europe/London:20241001T190000
DTSTAMP:20260422T235000
CREATED:20240703T210816Z
LAST-MODIFIED:20240830T210115Z
UID:1498-1727805600-1727809200@ragapbooking.com
SUMMARY:Santa Barbara Sunrise Rotary Club Community Naloxone Training
DESCRIPTION:Santa Barbara Sunrise Rotary Club Community Naloxone Training
URL:https://ragapbooking.com/overdose-training/santa-barbara-sunrise-rotary-club-community-naloxone-training/
LOCATION:Arkansas
CATEGORIES:Overdose Training
ATTACH;FMTTYPE=image/jpeg:https://ragapbooking.com/wp-content/uploads/2024/02/Kloxxado_graphic_-logo-02-scaled.jpg
ORGANIZER;CN="Kirk Greene":MAILTO:kirk@suninsb.com
END:VEVENT
BEGIN:VEVENT
DTSTART;TZID=Europe/London:20240926T080000
DTEND;TZID=Europe/London:20240926T090000
DTSTAMP:20260422T235000
CREATED:20240514T205027Z
LAST-MODIFIED:20240830T205926Z
UID:1254-1727337600-1727341200@ragapbooking.com
SUMMARY:Leesburg Rotary and Leesburg Chamber Naloxone Training
DESCRIPTION:Naloxone Training learn how to reverse an overdose
URL:https://ragapbooking.com/overdose-training/leesburg-rotary-and-leesburg-chamber-naloxone-training/
LOCATION:The Venetian Center\, East Dixie Avenue\, Leesburg\, Florida\, 34748\, United States
CATEGORIES:Overdose Training
ATTACH;FMTTYPE=image/jpeg:https://ragapbooking.com/wp-content/uploads/2024/02/Kloxxado_graphic_-logo-02-scaled.jpg
ORGANIZER;CN="John Bernaden":MAILTO:bernaden@aol.com
END:VEVENT
BEGIN:VEVENT
DTSTART;TZID=Europe/London:20240909T180000
DTEND;TZID=Europe/London:20240909T190000
DTSTAMP:20260422T235000
CREATED:20240709T160424Z
LAST-MODIFIED:20240830T205345Z
UID:1529-1725904800-1725908400@ragapbooking.com
SUMMARY:Camden Arkansas Community Wide Naloxone Training
DESCRIPTION:LEARN HOW TO ADMINISTER NALOXONE FOR OVERDOSE AND SAVE A LIFE
URL:https://ragapbooking.com/overdose-training/camden-arkansas-community-wide-naloxone-training/
LOCATION:Ouachita County Medical Center/The Green Center/ Bearden Stephens Rooms\, 638 California Avenue Southwest\, Camden\, AR\, 71701\, United States
CATEGORIES:Overdose Training
ATTACH;FMTTYPE=image/jpeg:https://ragapbooking.com/wp-content/uploads/2024/02/Kloxxado_graphic_-logo-02-scaled.jpg
ORGANIZER;CN="Jerakaycia Smith M.D.":MAILTO:jsmith@myfirstchoicecare.com
END:VEVENT
BEGIN:VEVENT
DTSTART;TZID=Europe/London:20240903T180000
DTEND;TZID=Europe/London:20240903T190000
DTSTAMP:20260422T235000
CREATED:20240703T200921Z
LAST-MODIFIED:20240830T205550Z
UID:1486-1725386400-1725390000@ragapbooking.com
SUMMARY:Santa Barbara Sunrise Rotary Naloxone Community Training
DESCRIPTION:Community Naloxone Training  Unity Shoppe Kenny Logins Event Room First Floor
URL:https://ragapbooking.com/overdose-training/santa-barbara-sunrise-rotary-naloxone-community-training/
LOCATION:Arkansas
CATEGORIES:Overdose Training
ATTACH;FMTTYPE=image/jpeg:https://ragapbooking.com/wp-content/uploads/2024/02/Kloxxado_graphic_-logo-02-scaled.jpg
END:VEVENT
BEGIN:VEVENT
DTSTART;TZID=Europe/London:20240829T120000
DTEND;TZID=Europe/London:20240829T130000
DTSTAMP:20260422T235000
CREATED:20240727T165802Z
LAST-MODIFIED:20240830T203015Z
UID:1617-1724932800-1724936400@ragapbooking.com
SUMMARY:Aberdeen Washington Rotary Club Community Naloxone Training
DESCRIPTION:Training Community Members on overdose reversal with Kloxxado  USE HAIGHT ST ENTRANCE
URL:https://ragapbooking.com/overdose-training/aberdeen-washington-rotary-club-community-naloxone-training/
LOCATION:Grays Harbor County Public Health Pearsall Bldg.\, 2109 Sumner Avenue\, Aberdeen\, WA\, 98520\, United States
CATEGORIES:Overdose Training
ATTACH;FMTTYPE=image/jpeg:https://ragapbooking.com/wp-content/uploads/2024/02/Kloxxado_graphic_-logo-02-scaled.jpg
ORGANIZER;CN="Leslie O'Brien":MAILTO:johnobriencatering@gmail.com
END:VEVENT
BEGIN:VEVENT
DTSTART;TZID=Europe/London:20240822T083000
DTEND;TZID=Europe/London:20240822T093000
DTSTAMP:20260422T235000
CREATED:20240514T203509Z
LAST-MODIFIED:20240830T205444Z
UID:1248-1724315400-1724319000@ragapbooking.com
SUMMARY:Leesburg Rotary and Leesburg Chamber Naloxone Training
DESCRIPTION:Leesburg Rotary and Leesburg Chamber holding Naloxone Training
URL:https://ragapbooking.com/overdose-training/naloxone-training/
LOCATION:The Venetian Center\, East Dixie Avenue\, Leesburg\, Florida\, 34748\, United States
CATEGORIES:Overdose Training
ATTACH;FMTTYPE=image/jpeg:https://ragapbooking.com/wp-content/uploads/2024/02/Kloxxado_graphic_-logo-02-scaled.jpg
ORGANIZER;CN="John Bernaden":MAILTO:bernaden@aol.com
END:VEVENT
BEGIN:VEVENT
DTSTART;TZID=Europe/London:20240806T180000
DTEND;TZID=Europe/London:20240806T190000
DTSTAMP:20260422T235000
CREATED:20240603T215059Z
LAST-MODIFIED:20240710T211731Z
UID:1379-1722967200-1722970800@ragapbooking.com
SUMMARY:Santa Barbara Community Naloxone Training
DESCRIPTION:Rotary Club Santa Barbara Sunrise Community Naloxone Training
URL:https://ragapbooking.com/overdose-training/community-naloxone-training/
LOCATION:Arkansas
CATEGORIES:Overdose Training
ATTACH;FMTTYPE=image/jpeg:https://ragapbooking.com/wp-content/uploads/2024/02/Kloxxado_graphic_-logo-02-scaled.jpg
ORGANIZER;CN="W Scott Burns":MAILTO:wscott@wsburns.com
END:VEVENT
BEGIN:VEVENT
DTSTART;TZID=Europe/London:20240725T083000
DTEND;TZID=Europe/London:20240725T093000
DTSTAMP:20260422T235000
CREATED:20240514T202917Z
LAST-MODIFIED:20240710T212127Z
UID:1241-1721896200-1721899800@ragapbooking.com
SUMMARY:Leesburg Florida Naloxone Training
DESCRIPTION:Rotary Club Leesburg Florida and Leesburg Chamber of Commerce holding Naloxone Training
URL:https://ragapbooking.com/overdose-training/naloxone-training-learn-how-to-reverse-and-overdose/
LOCATION:The Venetian Center\, East Dixie Avenue\, Leesburg\, Florida\, 34748\, United States
CATEGORIES:Overdose Training
ATTACH;FMTTYPE=image/jpeg:https://ragapbooking.com/wp-content/uploads/2024/02/Kloxxado_graphic_-logo-02-scaled.jpg
ORGANIZER;CN="John Bernaden":MAILTO:bernaden@aol.com
END:VEVENT
BEGIN:VEVENT
DTSTART;TZID=Europe/London:20240710T180000
DTEND;TZID=Europe/London:20240710T190000
DTSTAMP:20260422T235000
CREATED:20240424T153924Z
LAST-MODIFIED:20240710T211852Z
UID:1159-1720634400-1720638000@ragapbooking.com
SUMMARY:Orlando Rotary Club Community Naloxone Training with David Rose
DESCRIPTION:Orlando Rotary Club Community Naloxone Training/Orlando Regional Medical Center Multi Purpose Room
URL:https://ragapbooking.com/overdose-training/orlando-community-naloxone-training-with-david-rose/
LOCATION:Orlando Regional Medical Center\, 52 West Underwood Street/Multi Purpose Room\, Orlando\, FL\, 32806\, United States
CATEGORIES:Overdose Training
ATTACH;FMTTYPE=image/jpeg:https://ragapbooking.com/wp-content/uploads/2024/02/Kloxxado_graphic_-logo-02-scaled.jpg
ORGANIZER;CN="David Rose":MAILTO:david.rose159@gmail.com
END:VEVENT
BEGIN:VEVENT
DTSTART;TZID=America/Detroit:20240619T160000
DTEND;TZID=America/Detroit:20240619T170000
DTSTAMP:20260422T235000
CREATED:20240512T222920Z
LAST-MODIFIED:20240607T214143Z
UID:1222-1718812800-1718816400@ragapbooking.com
SUMMARY:Naloxone Training Michigan Memorial Funeral Home
DESCRIPTION:Providing Naloxone Training on Naloxone Administration For the Community
URL:https://ragapbooking.com/overdose-training/naloxone-training-michigan-memorial-funeral-home-2/
LOCATION:Michigan Memorial Funeral Home\, 30895 W Huron River Dr.\, Flat Rock\, Michigan\, 48134\, United States
CATEGORIES:Overdose Training
END:VEVENT
BEGIN:VEVENT
DTSTART;TZID=America/Detroit:20240618T160000
DTEND;TZID=America/Detroit:20240618T160000
DTSTAMP:20260422T235000
CREATED:20240410T195714Z
LAST-MODIFIED:20240414T162637Z
UID:1135-1718726400-1718726400@ragapbooking.com
SUMMARY:Naloxone Training Michigan Memorial Funeral Home
DESCRIPTION:Training on Naloxone Administration
URL:https://ragapbooking.com/overdose-training/naloxone-training-michigan-memorial-funeral-home/
LOCATION:Michigan Memorial Funeral Home\, 30895 W Huron River Dr.\, Flat Rock\, Michigan\, 48134\, United States
CATEGORIES:Overdose Training
ORGANIZER;CN="Christine Steves":MAILTO:cfsteves@gmail.com
END:VEVENT
BEGIN:VEVENT
DTSTART;TZID=America/New_York:20240615T140000
DTEND;TZID=America/New_York:20240615T150000
DTSTAMP:20260422T235000
CREATED:20240307T011223Z
LAST-MODIFIED:20240530T223905Z
UID:941-1718460000-1718463600@ragapbooking.com
SUMMARY:District 6650 Naloxone Training to Save Lives
DESCRIPTION:Naloxone Training for Rotarians
URL:https://ragapbooking.com/overdose-training/district-6650-naloxone-training-to-save-lives/
LOCATION:Kent State University Stark County Campus Conference Center\, 6000 Frank Ave NW\, North Canton\, Ohio\, 44720\, United States
CATEGORIES:Overdose Training
END:VEVENT
BEGIN:VEVENT
DTSTART;TZID=America/Chicago:20240403T123000
DTEND;TZID=America/Chicago:20240403T133000
DTSTAMP:20260422T235000
CREATED:20240208T001101Z
LAST-MODIFIED:20240208T001102Z
UID:843-1712147400-1712151000@ragapbooking.com
SUMMARY:Labette Community College For Nurse Faculty Naloxone Training
DESCRIPTION:Dr. Craig Newland and Dee Bohnenblust Co-Trainers
URL:https://ragapbooking.com/overdose-training/labette-community-college-for-nurse-faculty-naloxone-training/
LOCATION:Labette Community College For Nurse Faculty Zetmeir Health Science Bldg Room Z 230\, 200 S. 14'th St.\, Parsons\, KS\, 37357\, United States
CATEGORIES:Overdose Training
ORGANIZER;CN="Dee Bohnenblust-Kansas Naloxone Trainer":MAILTO:DelynaB@labette.edu
END:VEVENT
BEGIN:VEVENT
DTSTART;TZID=America/New_York:20240321T084500
DTEND;TZID=America/New_York:20240321T084500
DTSTAMP:20260422T235000
CREATED:20240206T013232Z
LAST-MODIFIED:20240208T193949Z
UID:803-1711010700-1711010700@ragapbooking.com
SUMMARY:Leon County Schools Asst. Principals and Deans Howell Bldg. Naloxone Training
DESCRIPTION:Naloxone Training
URL:https://ragapbooking.com/overdose-training/district-advisory-council-howell-bldg-naloxone-training/
LOCATION:Leon County Schools Asst. Principal and Deans  3995 W. Pensacola St Howell Bldg. Tallahassee Florida\, 3995 West Pensacola St Howell Bldg\, Tallahassee\, FL\, 32304\, United States
CATEGORIES:Overdose Training
END:VEVENT
BEGIN:VEVENT
DTSTART;TZID=America/New_York:20240312T183000
DTEND;TZID=America/New_York:20240312T193000
DTSTAMP:20260422T235000
CREATED:20240205T214127Z
LAST-MODIFIED:20240207T225530Z
UID:791-1710268200-1710271800@ragapbooking.com
SUMMARY:Flat Rock Michigan Naloxone Training By Woodhaven-Brownstown Rotary Club
DESCRIPTION:Salutes Special Event Banquet Room
URL:https://ragapbooking.com/overdose-training/flat-rock-michigan-naloxone-training/
LOCATION:Salutes Special Events Banquet Room 26123 E. Huron River Dr. Flat Rock Michigan 48134\, 26123 E Huron River Dr.\, Flat Rock\, MI\, 48134\, United States
CATEGORIES:Overdose Training
ORGANIZER;CN="Steve Ahles-Michigan Overdose Trainer":MAILTO:steveahles@ragapnorthamerica.us
END:VEVENT
BEGIN:VEVENT
DTSTART;TZID=America/New_York:20240226T150000
DTEND;TZID=America/New_York:20240226T160000
DTSTAMP:20260422T235000
CREATED:20240205T002312Z
LAST-MODIFIED:20240206T002129Z
UID:785-1708959600-1708963200@ragapbooking.com
SUMMARY:Pineview Elementary School Naloxone Training
DESCRIPTION:Naloxone Training Administration and Staff
URL:https://ragapbooking.com/overdose-training/pineview-elementary-school-naloxone-training/
LOCATION:Pineview Elementary School 2230 Lake Bradford Rd Tallahassee Florida Conference Room Front Entrance\, 2230 Lake Bradford Rd\, Tallahassee\, Florida\, United States
CATEGORIES:Overdose Training
ORGANIZER;CN="Mariah Kill-Florida Naloxone Trainer":MAILTO:mkill@uwf.edu
END:VEVENT
END:VCALENDAR