BEGIN:VCALENDAR
VERSION:2.0
PRODID:-//Rotary Action Group Addiction Prevention North America - ECPv6.15.20//NONSGML v1.0//EN
CALSCALE:GREGORIAN
METHOD:PUBLISH
X-WR-CALNAME:Rotary Action Group Addiction Prevention North America
X-ORIGINAL-URL:https://ragapbooking.com
X-WR-CALDESC:Events for Rotary Action Group Addiction Prevention North America
REFRESH-INTERVAL;VALUE=DURATION:PT1H
X-Robots-Tag:noindex
X-PUBLISHED-TTL:PT1H
BEGIN:VTIMEZONE
TZID:Europe/London
BEGIN:DAYLIGHT
TZOFFSETFROM:+0000
TZOFFSETTO:+0100
TZNAME:BST
DTSTART:20230326T010000
END:DAYLIGHT
BEGIN:STANDARD
TZOFFSETFROM:+0100
TZOFFSETTO:+0000
TZNAME:GMT
DTSTART:20231029T010000
END:STANDARD
BEGIN:DAYLIGHT
TZOFFSETFROM:+0000
TZOFFSETTO:+0100
TZNAME:BST
DTSTART:20240331T010000
END:DAYLIGHT
BEGIN:STANDARD
TZOFFSETFROM:+0100
TZOFFSETTO:+0000
TZNAME:GMT
DTSTART:20241027T010000
END:STANDARD
BEGIN:DAYLIGHT
TZOFFSETFROM:+0000
TZOFFSETTO:+0100
TZNAME:BST
DTSTART:20250330T010000
END:DAYLIGHT
BEGIN:STANDARD
TZOFFSETFROM:+0100
TZOFFSETTO:+0000
TZNAME:GMT
DTSTART:20251026T010000
END:STANDARD
END:VTIMEZONE
BEGIN:VEVENT
DTSTART;TZID=Europe/London:20240716T190000
DTEND;TZID=Europe/London:20240716T200000
DTSTAMP:20260422T181351
CREATED:20240429T180059Z
LAST-MODIFIED:20240710T211936Z
UID:1185-1721156400-1721160000@ragapbooking.com
SUMMARY:Aberdeen Washington Naloxone Train Trainers
DESCRIPTION:Training Naloxone Trainers
URL:https://ragapbooking.com/overdose-training/aberdeen-washington-naloxone-train-trainers/
LOCATION:Grays Harbor Public Health\, 2109 Sumner Ave Pearsall Bldg Harbor Meeting Room\, Aberdeen\, Washington\, 98520\, United States
CATEGORIES:Overdose Train Trainer Classes
ATTACH;FMTTYPE=image/jpeg:https://ragapbooking.com/wp-content/uploads/2024/02/Kloxxado_graphic_-logo-02-scaled.jpg
ORGANIZER;CN="Head Trainer-Larry Kenemore":MAILTO:larry@ragapnorthamerica.us
END:VEVENT
END:VCALENDAR