BEGIN:VCALENDAR
VERSION:2.0
PRODID:-//Rotary Action Group Addiction Prevention North America - ECPv6.15.20//NONSGML v1.0//EN
CALSCALE:GREGORIAN
METHOD:PUBLISH
X-WR-CALNAME:Rotary Action Group Addiction Prevention North America
X-ORIGINAL-URL:https://ragapbooking.com
X-WR-CALDESC:Events for Rotary Action Group Addiction Prevention North America
REFRESH-INTERVAL;VALUE=DURATION:PT1H
X-Robots-Tag:noindex
X-PUBLISHED-TTL:PT1H
BEGIN:VTIMEZONE
TZID:America/Chicago
BEGIN:DAYLIGHT
TZOFFSETFROM:-0600
TZOFFSETTO:-0500
TZNAME:CDT
DTSTART:20230312T080000
END:DAYLIGHT
BEGIN:STANDARD
TZOFFSETFROM:-0500
TZOFFSETTO:-0600
TZNAME:CST
DTSTART:20231105T070000
END:STANDARD
BEGIN:DAYLIGHT
TZOFFSETFROM:-0600
TZOFFSETTO:-0500
TZNAME:CDT
DTSTART:20240310T080000
END:DAYLIGHT
BEGIN:STANDARD
TZOFFSETFROM:-0500
TZOFFSETTO:-0600
TZNAME:CST
DTSTART:20241103T070000
END:STANDARD
BEGIN:DAYLIGHT
TZOFFSETFROM:-0600
TZOFFSETTO:-0500
TZNAME:CDT
DTSTART:20250309T080000
END:DAYLIGHT
BEGIN:STANDARD
TZOFFSETFROM:-0500
TZOFFSETTO:-0600
TZNAME:CST
DTSTART:20251102T070000
END:STANDARD
END:VTIMEZONE
BEGIN:VEVENT
DTSTART;TZID=America/Chicago:20240415T130000
DTEND;TZID=America/Chicago:20240415T140000
DTSTAMP:20260422T232025
CREATED:20240207T015924Z
LAST-MODIFIED:20240401T213049Z
UID:836-1713186000-1713189600@ragapbooking.com
SUMMARY:Pensacola Five Flags Florida Rotary Train the TRAINERS Class
DESCRIPTION:Training new TRAINERS
URL:https://ragapbooking.com/overdose-training/pensacola-five-flags-florida-rotary-train-the-trainers-class/
LOCATION:Florida-Pensacola Five Flags Rotary Club\, 201 E Gregory St.\, Pensacola\, FL\, 32502\, United States
ORGANIZER;CN="Head Trainer-Larry Kenemore":MAILTO:larry@ragapnorthamerica.us
END:VEVENT
END:VCALENDAR