BEGIN:VCALENDAR
VERSION:2.0
PRODID:-//Rotary Action Group Addiction Prevention North America - ECPv6.15.20//NONSGML v1.0//EN
CALSCALE:GREGORIAN
METHOD:PUBLISH
X-WR-CALNAME:Rotary Action Group Addiction Prevention North America
X-ORIGINAL-URL:https://ragapbooking.com
X-WR-CALDESC:Events for Rotary Action Group Addiction Prevention North America
REFRESH-INTERVAL;VALUE=DURATION:PT1H
X-Robots-Tag:noindex
X-PUBLISHED-TTL:PT1H
BEGIN:VTIMEZONE
TZID:America/Chicago
BEGIN:DAYLIGHT
TZOFFSETFROM:-0600
TZOFFSETTO:-0500
TZNAME:CDT
DTSTART:20230312T080000
END:DAYLIGHT
BEGIN:STANDARD
TZOFFSETFROM:-0500
TZOFFSETTO:-0600
TZNAME:CST
DTSTART:20231105T070000
END:STANDARD
BEGIN:DAYLIGHT
TZOFFSETFROM:-0600
TZOFFSETTO:-0500
TZNAME:CDT
DTSTART:20240310T080000
END:DAYLIGHT
BEGIN:STANDARD
TZOFFSETFROM:-0500
TZOFFSETTO:-0600
TZNAME:CST
DTSTART:20241103T070000
END:STANDARD
BEGIN:DAYLIGHT
TZOFFSETFROM:-0600
TZOFFSETTO:-0500
TZNAME:CDT
DTSTART:20250309T080000
END:DAYLIGHT
BEGIN:STANDARD
TZOFFSETFROM:-0500
TZOFFSETTO:-0600
TZNAME:CST
DTSTART:20251102T070000
END:STANDARD
END:VTIMEZONE
BEGIN:VEVENT
DTSTART;TZID=America/Chicago:20240403T123000
DTEND;TZID=America/Chicago:20240403T133000
DTSTAMP:20260422T232026
CREATED:20240208T001101Z
LAST-MODIFIED:20240208T001102Z
UID:843-1712147400-1712151000@ragapbooking.com
SUMMARY:Labette Community College For Nurse Faculty Naloxone Training
DESCRIPTION:Dr. Craig Newland and Dee Bohnenblust Co-Trainers
URL:https://ragapbooking.com/overdose-training/labette-community-college-for-nurse-faculty-naloxone-training/
LOCATION:Labette Community College For Nurse Faculty Zetmeir Health Science Bldg Room Z 230\, 200 S. 14'th St.\, Parsons\, KS\, 37357\, United States
CATEGORIES:Overdose Training
ORGANIZER;CN="Dee Bohnenblust-Kansas Naloxone Trainer":MAILTO:DelynaB@labette.edu
END:VEVENT
END:VCALENDAR